BEGIN:VCALENDAR
VERSION:2.0
PRODID:-//Bronte College - ECPv6.15.12.2//NONSGML v1.0//EN
CALSCALE:GREGORIAN
METHOD:PUBLISH
X-WR-CALNAME:Bronte College
X-ORIGINAL-URL:https://brontecollege.ca
X-WR-CALDESC:Events for Bronte College
REFRESH-INTERVAL;VALUE=DURATION:PT1H
X-Robots-Tag:noindex
X-PUBLISHED-TTL:PT1H
BEGIN:VTIMEZONE
TZID:America/Toronto
BEGIN:DAYLIGHT
TZOFFSETFROM:-0500
TZOFFSETTO:-0400
TZNAME:EDT
DTSTART:20150308T070000
END:DAYLIGHT
BEGIN:STANDARD
TZOFFSETFROM:-0400
TZOFFSETTO:-0500
TZNAME:EST
DTSTART:20151101T060000
END:STANDARD
BEGIN:DAYLIGHT
TZOFFSETFROM:-0500
TZOFFSETTO:-0400
TZNAME:EDT
DTSTART:20160313T070000
END:DAYLIGHT
BEGIN:STANDARD
TZOFFSETFROM:-0400
TZOFFSETTO:-0500
TZNAME:EST
DTSTART:20161106T060000
END:STANDARD
BEGIN:DAYLIGHT
TZOFFSETFROM:-0500
TZOFFSETTO:-0400
TZNAME:EDT
DTSTART:20170312T070000
END:DAYLIGHT
BEGIN:STANDARD
TZOFFSETFROM:-0400
TZOFFSETTO:-0500
TZNAME:EST
DTSTART:20171105T060000
END:STANDARD
END:VTIMEZONE
BEGIN:VEVENT
DTSTART;TZID=America/Toronto:20161027T160000
DTEND;TZID=America/Toronto:20161027T180000
DTSTAMP:20260423T003018
CREATED:20160919T173934Z
LAST-MODIFIED:20160926T130024Z
UID:1555-1477584000-1477591200@brontecollege.ca
SUMMARY:Bronte College University Fair
DESCRIPTION:Attending universities: \n\n\nUniversity of Toronto
URL:https://brontecollege.ca/event/bronte-college-university-fair/
CATEGORIES:Guidance
END:VEVENT
BEGIN:VEVENT
DTSTART;TZID=America/Toronto:20161026T160000
DTEND;TZID=America/Toronto:20161026T180000
DTSTAMP:20260423T003018
CREATED:20160919T174129Z
LAST-MODIFIED:20160926T130024Z
UID:1563-1477497600-1477504800@brontecollege.ca
SUMMARY:Bronte College University Fair
DESCRIPTION:Attending universities: \n\nBrock University\nLaurentian University\nUniversity of Ottawa\nQueens University\nWilfred Laurier University\nQuest University\nBrescia at the University of Western Ontario
URL:https://brontecollege.ca/event/bronte-college-university-fair-2/
CATEGORIES:Guidance
END:VEVENT
BEGIN:VEVENT
DTSTART;TZID=America/Toronto:20161025T160000
DTEND;TZID=America/Toronto:20161025T180000
DTSTAMP:20260423T003018
CREATED:20160919T174151Z
LAST-MODIFIED:20161025T173937Z
UID:1535-1477411200-1477418400@brontecollege.ca
SUMMARY:Bronte College University Fair
DESCRIPTION:Attending universities: \n\nQueens University\nMcMaster University\nYork University\nRyerson University\nUniversity of Western Ontario\nHuron at the University of Western Ontario\nUniversity of British Columbia\nConcordia University\nUniversity of Ontario Institute of Technology\nUniversity of Alberta\nCarleton University\nUniversity of Guelph
URL:https://brontecollege.ca/event/bronte-college-university-fair-3/
CATEGORIES:Guidance
END:VEVENT
BEGIN:VEVENT
DTSTART;VALUE=DATE:20160914
DTEND;VALUE=DATE:20160915
DTSTAMP:20260423T003018
CREATED:20160902T154412Z
LAST-MODIFIED:20160926T130024Z
UID:1408-1473811200-1473897599@brontecollege.ca
SUMMARY:Course Change Deadline
DESCRIPTION:
URL:https://brontecollege.ca/event/course-change-deadline/
CATEGORIES:Guidance
END:VEVENT
END:VCALENDAR