BEGIN:VCALENDAR
VERSION:2.0
PRODID:-//Bronte College - ECPv6.15.12.2//NONSGML v1.0//EN
CALSCALE:GREGORIAN
METHOD:PUBLISH
X-ORIGINAL-URL:https://brontecollege.ca
X-WR-CALDESC:Events for Bronte College
REFRESH-INTERVAL;VALUE=DURATION:PT1H
X-Robots-Tag:noindex
X-PUBLISHED-TTL:PT1H
BEGIN:VTIMEZONE
TZID:Asia/Tokyo
BEGIN:STANDARD
TZOFFSETFROM:+0900
TZOFFSETTO:+0900
TZNAME:JST
DTSTART:20150101T000000
END:STANDARD
END:VTIMEZONE
BEGIN:VEVENT
DTSTART;TZID=Asia/Tokyo:20161207T150000
DTEND;TZID=Asia/Tokyo:20161207T160000
DTSTAMP:20260422T214117
CREATED:20161129T185408Z
LAST-MODIFIED:20161130T183044Z
UID:2168-1481122800-1481126400@brontecollege.ca
SUMMARY:Embassy Seminar
DESCRIPTION:Come to our seminar at the E. H. Norman Library in the Canadian Embassy and learn about Bronte’s exceptional programs. Please email szheng@brontecollege.ca with your full name if you plan to attend. You must be on a list of attendees\, otherwise you will not be able to enter the Canadian Embassy.
URL:https://brontecollege.ca/event/embassy-seminar/
LOCATION:Embassy of Canada in Japan\, E.H. Norman Library\, 7-3-38 Akasaka\, Minato-ku\, Tokyo\, 107-8503\, Japan
CATEGORIES:Japan
END:VEVENT
END:VCALENDAR