BEGIN:VCALENDAR
VERSION:2.0
PRODID:-//Bronte College - ECPv6.15.12.2//NONSGML v1.0//EN
CALSCALE:GREGORIAN
METHOD:PUBLISH
X-ORIGINAL-URL:https://brontecollege.ca
X-WR-CALDESC:Events for Bronte College
REFRESH-INTERVAL;VALUE=DURATION:PT1H
X-Robots-Tag:noindex
X-PUBLISHED-TTL:PT1H
BEGIN:VTIMEZONE
TZID:America/Mexico_City
BEGIN:DAYLIGHT
TZOFFSETFROM:-0600
TZOFFSETTO:-0500
TZNAME:CDT
DTSTART:20160403T080000
END:DAYLIGHT
BEGIN:STANDARD
TZOFFSETFROM:-0500
TZOFFSETTO:-0600
TZNAME:CST
DTSTART:20161030T070000
END:STANDARD
BEGIN:DAYLIGHT
TZOFFSETFROM:-0600
TZOFFSETTO:-0500
TZNAME:CDT
DTSTART:20170402T080000
END:DAYLIGHT
BEGIN:STANDARD
TZOFFSETFROM:-0500
TZOFFSETTO:-0600
TZNAME:CST
DTSTART:20171029T070000
END:STANDARD
BEGIN:DAYLIGHT
TZOFFSETFROM:-0600
TZOFFSETTO:-0500
TZNAME:CDT
DTSTART:20180401T080000
END:DAYLIGHT
BEGIN:STANDARD
TZOFFSETFROM:-0500
TZOFFSETTO:-0600
TZNAME:CST
DTSTART:20181028T070000
END:STANDARD
END:VTIMEZONE
BEGIN:VEVENT
DTSTART;TZID=America/Mexico_City:20170211T160000
DTEND;TZID=America/Mexico_City:20170211T210000
DTSTAMP:20260422T095626
CREATED:20170119T153013Z
LAST-MODIFIED:20170119T153013Z
UID:2259-1486828800-1486846800@brontecollege.ca
SUMMARY:FPP EduExpo in Mexico
DESCRIPTION:
URL:https://brontecollege.ca/event/fpp-eduexpo-in-mexico/
LOCATION:Hotel Sheraton Maria Isabel\, Paseo de la Reforma 325\, Cuauhtémoc\, Mexico City\, 06500\, Mexico
CATEGORIES:External,Mexico
END:VEVENT
BEGIN:VEVENT
DTSTART;TZID=America/Mexico_City:20170207T160000
DTEND;TZID=America/Mexico_City:20170207T210000
DTSTAMP:20260422T095626
CREATED:20170119T152433Z
LAST-MODIFIED:20170119T152832Z
UID:2253-1486483200-1486501200@brontecollege.ca
SUMMARY:EduCanada in Mexico
DESCRIPTION:Venue TBC\, please check back!
URL:https://brontecollege.ca/event/educanada-in-mexico-2/
LOCATION:Querétaro\, Mexico
CATEGORIES:External,Mexico
END:VEVENT
BEGIN:VEVENT
DTSTART;TZID=America/Mexico_City:20170205T130000
DTEND;TZID=America/Mexico_City:20170205T180000
DTSTAMP:20260422T095626
CREATED:20170119T152230Z
LAST-MODIFIED:20170119T152312Z
UID:2248-1486299600-1486317600@brontecollege.ca
SUMMARY:EduCanada in Mexico
DESCRIPTION:
URL:https://brontecollege.ca/event/educanada-in-mexico/
LOCATION:Hotel Crowne Plaza\, Calle Dakota 95 edificio B\, Benito Juárez\, Nápoles\, \, Mexico City\, 03810\, Mexico
CATEGORIES:External,Mexico
END:VEVENT
END:VCALENDAR