BEGIN:VCALENDAR
VERSION:2.0
PRODID:-//Bronte College - ECPv6.15.12.2//NONSGML v1.0//EN
CALSCALE:GREGORIAN
METHOD:PUBLISH
X-WR-CALNAME:Bronte College
X-ORIGINAL-URL:https://brontecollege.ca
X-WR-CALDESC:Events for Bronte College
REFRESH-INTERVAL;VALUE=DURATION:PT1H
X-Robots-Tag:noindex
X-PUBLISHED-TTL:PT1H
BEGIN:VTIMEZONE
TZID:Asia/Taipei
BEGIN:STANDARD
TZOFFSETFROM:+0800
TZOFFSETTO:+0800
TZNAME:CST
DTSTART:20150101T000000
END:STANDARD
END:VTIMEZONE
BEGIN:VEVENT
DTSTART;TZID=Asia/Taipei:20161012T180000
DTEND;TZID=Asia/Taipei:20161012T210000
DTSTAMP:20260422T234851
CREATED:20161004T143209Z
LAST-MODIFIED:20161004T143209Z
UID:1889-1476295200-1476306000@brontecollege.ca
SUMMARY:OH Study Fair
DESCRIPTION:
URL:https://brontecollege.ca/event/oh-study-fair-5/
LOCATION:Hsinchu Fleurlis Hotel\, 3F\, No. 69\, Minzu Rd\, East District\, Hsinchu City\, Taiwan 300\, Hsinchu\, Taiwan
CATEGORIES:External,Taiwan
END:VEVENT
BEGIN:VEVENT
DTSTART;TZID=Asia/Taipei:20161011T160000
DTEND;TZID=Asia/Taipei:20161011T210000
DTSTAMP:20260422T234851
CREATED:20161004T142918Z
LAST-MODIFIED:20161004T143341Z
UID:1885-1476201600-1476219600@brontecollege.ca
SUMMARY:OH Study Fair
DESCRIPTION:
URL:https://brontecollege.ca/event/oh-study-fair-4/
LOCATION:Taichung Splendor Hotel\, 10F\, No. 1049號\, Jianxing Rd\, West District\, Taichung City\, Taiwan 403\, Taichung\, Taiwan
CATEGORIES:External,Taiwan
END:VEVENT
BEGIN:VEVENT
DTSTART;TZID=Asia/Taipei:20161010T130000
DTEND;TZID=Asia/Taipei:20161010T180000
DTSTAMP:20260422T234851
CREATED:20161004T142712Z
LAST-MODIFIED:20161004T142712Z
UID:1881-1476104400-1476122400@brontecollege.ca
SUMMARY:OH Study Fair
DESCRIPTION:
URL:https://brontecollege.ca/event/oh-study-fair-3/
LOCATION:Kaohsiung Dream Mall\, 8F\, No. 789\, Zhonghua 5th Rd\, Qianzhen District\, Kaohsiung City\, Taiwan 806\, Kaohsiung\, Taiwan
CATEGORIES:External,Taiwan
END:VEVENT
BEGIN:VEVENT
DTSTART;TZID=Asia/Taipei:20161009T130000
DTEND;TZID=Asia/Taipei:20161009T170000
DTSTAMP:20260422T234851
CREATED:20161004T142406Z
LAST-MODIFIED:20161004T142406Z
UID:1879-1476018000-1476032400@brontecollege.ca
SUMMARY:OH Study Fair
DESCRIPTION:
URL:https://brontecollege.ca/event/oh-study-fair-2/
LOCATION:Taipei World Trade Center Exhibition Hall #1\, 2F\, Songlian Rd\, Xinyi District\, Taipei City\, Taiwan 110\, Taipei\, Taiwan
CATEGORIES:External,Taiwan
END:VEVENT
BEGIN:VEVENT
DTSTART;TZID=Asia/Taipei:20161008T130000
DTEND;TZID=Asia/Taipei:20161008T180000
DTSTAMP:20260422T234851
CREATED:20161004T142247Z
LAST-MODIFIED:20161004T142258Z
UID:1874-1475931600-1475949600@brontecollege.ca
SUMMARY:OH Study Fair
DESCRIPTION:
URL:https://brontecollege.ca/event/oh-study-fair/
LOCATION:Taipei World Trade Center Exhibition Hall #1\, 2F\, Songlian Rd\, Xinyi District\, Taipei City\, Taiwan 110\, Taipei\, Taiwan
CATEGORIES:External,Taiwan
END:VEVENT
END:VCALENDAR