BEGIN:VCALENDAR
VERSION:2.0
PRODID:-//Bronte College - ECPv6.15.12.2//NONSGML v1.0//EN
CALSCALE:GREGORIAN
METHOD:PUBLISH
X-WR-CALNAME:Bronte College
X-ORIGINAL-URL:https://brontecollege.ca
X-WR-CALDESC:Events for Bronte College
REFRESH-INTERVAL;VALUE=DURATION:PT1H
X-Robots-Tag:noindex
X-PUBLISHED-TTL:PT1H
BEGIN:VTIMEZONE
TZID:America/Toronto
BEGIN:DAYLIGHT
TZOFFSETFROM:-0500
TZOFFSETTO:-0400
TZNAME:EDT
DTSTART:20230312T070000
END:DAYLIGHT
BEGIN:STANDARD
TZOFFSETFROM:-0400
TZOFFSETTO:-0500
TZNAME:EST
DTSTART:20231105T060000
END:STANDARD
BEGIN:DAYLIGHT
TZOFFSETFROM:-0500
TZOFFSETTO:-0400
TZNAME:EDT
DTSTART:20240310T070000
END:DAYLIGHT
BEGIN:STANDARD
TZOFFSETFROM:-0400
TZOFFSETTO:-0500
TZNAME:EST
DTSTART:20241103T060000
END:STANDARD
BEGIN:DAYLIGHT
TZOFFSETFROM:-0500
TZOFFSETTO:-0400
TZNAME:EDT
DTSTART:20250309T070000
END:DAYLIGHT
BEGIN:STANDARD
TZOFFSETFROM:-0400
TZOFFSETTO:-0500
TZNAME:EST
DTSTART:20251102T060000
END:STANDARD
BEGIN:DAYLIGHT
TZOFFSETFROM:-0500
TZOFFSETTO:-0400
TZNAME:EDT
DTSTART:20260308T070000
END:DAYLIGHT
BEGIN:STANDARD
TZOFFSETFROM:-0400
TZOFFSETTO:-0500
TZNAME:EST
DTSTART:20261101T060000
END:STANDARD
END:VTIMEZONE
BEGIN:VEVENT
DTSTART;TZID=America/Toronto:20250626T080000
DTEND;TZID=America/Toronto:20250626T170000
DTSTAMP:20260423T072123
CREATED:20240626T141624Z
LAST-MODIFIED:20240626T141624Z
UID:11370-1750924800-1750957200@brontecollege.ca
SUMMARY:Graduation Ceremony
DESCRIPTION:
URL:https://brontecollege.ca/event/graduation-ceremony-7/
END:VEVENT
BEGIN:VEVENT
DTSTART;TZID=America/Toronto:20250310T080000
DTEND;TZID=America/Toronto:20250321T170000
DTSTAMP:20260423T072123
CREATED:20240626T141534Z
LAST-MODIFIED:20240626T141534Z
UID:11368-1741593600-1742576400@brontecollege.ca
SUMMARY:Spring Break
DESCRIPTION:
URL:https://brontecollege.ca/event/spring-break-7/
END:VEVENT
BEGIN:VEVENT
DTSTART;VALUE=DATE:20250131
DTEND;VALUE=DATE:20250201
DTSTAMP:20260423T072123
CREATED:20240626T141801Z
LAST-MODIFIED:20240626T142321Z
UID:11374-1738281600-1738367999@brontecollege.ca
SUMMARY:Final Report Card Issued
DESCRIPTION:
URL:https://brontecollege.ca/event/final-report-card-issued/
END:VEVENT
BEGIN:VEVENT
DTSTART;TZID=America/Toronto:20250130T080000
DTEND;TZID=America/Toronto:20250130T170000
DTSTAMP:20260423T072123
CREATED:20240626T141723Z
LAST-MODIFIED:20240626T141723Z
UID:11372-1738224000-1738256400@brontecollege.ca
SUMMARY:Timetable Pick Up
DESCRIPTION:
URL:https://brontecollege.ca/event/timetable-pick-up-6/
END:VEVENT
BEGIN:VEVENT
DTSTART;TZID=America/Toronto:20250128T080000
DTEND;TZID=America/Toronto:20250129T170000
DTSTAMP:20260423T072123
CREATED:20240626T141434Z
LAST-MODIFIED:20240626T141434Z
UID:11366-1738051200-1738170000@brontecollege.ca
SUMMARY:Registration of New Students
DESCRIPTION:
URL:https://brontecollege.ca/event/registration-of-new-students/
END:VEVENT
BEGIN:VEVENT
DTSTART;TZID=America/Toronto:20250128T080000
DTEND;TZID=America/Toronto:20250129T170000
DTSTAMP:20260423T072123
CREATED:20240626T141356Z
LAST-MODIFIED:20240626T141356Z
UID:11364-1738051200-1738170000@brontecollege.ca
SUMMARY:Professional Development Day
DESCRIPTION:
URL:https://brontecollege.ca/event/professional-development-day-8/
END:VEVENT
BEGIN:VEVENT
DTSTART;TZID=America/Toronto:20250127T080000
DTEND;TZID=America/Toronto:20250127T170000
DTSTAMP:20260423T072123
CREATED:20240626T141327Z
LAST-MODIFIED:20240626T141327Z
UID:11362-1737964800-1737997200@brontecollege.ca
SUMMARY:Exam Take Up / Professional Development Day
DESCRIPTION:
URL:https://brontecollege.ca/event/exam-take-up-professional-development-day-5/
END:VEVENT
BEGIN:VEVENT
DTSTART;TZID=America/Toronto:20250120T080000
DTEND;TZID=America/Toronto:20250124T170000
DTSTAMP:20260423T072123
CREATED:20240626T141237Z
LAST-MODIFIED:20240626T141237Z
UID:11360-1737360000-1737738000@brontecollege.ca
SUMMARY:Final Examinations and Evaluations
DESCRIPTION:
URL:https://brontecollege.ca/event/final-examinations-and-evaluations/
END:VEVENT
BEGIN:VEVENT
DTSTART;TZID=America/Toronto:20250106T080000
DTEND;TZID=America/Toronto:20250106T170000
DTSTAMP:20260423T072123
CREATED:20240626T141143Z
LAST-MODIFIED:20240626T141143Z
UID:11358-1736150400-1736182800@brontecollege.ca
SUMMARY:Classess Resume
DESCRIPTION:
URL:https://brontecollege.ca/event/classess-resume/
END:VEVENT
BEGIN:VEVENT
DTSTART;TZID=America/Toronto:20241220T080000
DTEND;TZID=America/Toronto:20250103T170000
DTSTAMP:20260423T072123
CREATED:20240624T153226Z
LAST-MODIFIED:20240624T153226Z
UID:11354-1734681600-1735923600@brontecollege.ca
SUMMARY:HOLIDAY BREAK
DESCRIPTION:
URL:https://brontecollege.ca/event/holiday-break-8/
END:VEVENT
BEGIN:VEVENT
DTSTART;TZID=America/Toronto:20241113T080000
DTEND;TZID=America/Toronto:20241114T170000
DTSTAMP:20260423T072123
CREATED:20240624T153145Z
LAST-MODIFIED:20240624T153145Z
UID:11352-1731484800-1731603600@brontecollege.ca
SUMMARY:Parent/Teacher Interviews - Virtual
DESCRIPTION:
URL:https://brontecollege.ca/event/parent-teacher-interviews-virtual-3/
END:VEVENT
BEGIN:VEVENT
DTSTART;TZID=America/Toronto:20241106T080000
DTEND;TZID=America/Toronto:20241106T170000
DTSTAMP:20260423T072123
CREATED:20240624T153049Z
LAST-MODIFIED:20240626T140744Z
UID:11350-1730880000-1730912400@brontecollege.ca
SUMMARY:Midterm Report Cards
DESCRIPTION:
URL:https://brontecollege.ca/event/midterm-report-cards/
END:VEVENT
BEGIN:VEVENT
DTSTART;TZID=America/Toronto:20241025T080000
DTEND;TZID=America/Toronto:20241025T170000
DTSTAMP:20260423T072123
CREATED:20240624T153012Z
LAST-MODIFIED:20240626T140801Z
UID:11348-1729843200-1729875600@brontecollege.ca
SUMMARY:Professional Development Day
DESCRIPTION:
URL:https://brontecollege.ca/event/professional-development-day-7/
END:VEVENT
BEGIN:VEVENT
DTSTART;VALUE=DATE:20241016
DTEND;VALUE=DATE:20241018
DTSTAMP:20260423T072123
CREATED:20240624T152830Z
LAST-MODIFIED:20240624T152922Z
UID:11346-1729036800-1729209599@brontecollege.ca
SUMMARY:Bronte College University Fair
DESCRIPTION:
URL:https://brontecollege.ca/event/bronte-college-university-fair-6/
END:VEVENT
BEGIN:VEVENT
DTSTART;TZID=America/Toronto:20241014T080000
DTEND;TZID=America/Toronto:20241014T170000
DTSTAMP:20260423T072123
CREATED:20240624T152647Z
LAST-MODIFIED:20240624T152647Z
UID:11344-1728892800-1728925200@brontecollege.ca
SUMMARY:Thanksgiving Day Holiday
DESCRIPTION:
URL:https://brontecollege.ca/event/thanksgiving-day-holiday-7/
END:VEVENT
BEGIN:VEVENT
DTSTART;TZID=America/Toronto:20241011T080000
DTEND;TZID=America/Toronto:20241011T170000
DTSTAMP:20260423T072123
CREATED:20240624T152611Z
LAST-MODIFIED:20240624T152611Z
UID:11342-1728633600-1728666000@brontecollege.ca
SUMMARY:Interim Report Cards
DESCRIPTION:
URL:https://brontecollege.ca/event/interim-report-cards-3/
END:VEVENT
BEGIN:VEVENT
DTSTART;TZID=America/Toronto:20240913T080000
DTEND;TZID=America/Toronto:20240913T170000
DTSTAMP:20260423T072123
CREATED:20240624T152544Z
LAST-MODIFIED:20240624T152544Z
UID:11340-1726214400-1726246800@brontecollege.ca
SUMMARY:Course Change Deadline
DESCRIPTION:
URL:https://brontecollege.ca/event/course-change-deadline-14/
END:VEVENT
BEGIN:VEVENT
DTSTART;TZID=America/Toronto:20240903T080000
DTEND;TZID=America/Toronto:20240903T170000
DTSTAMP:20260423T072123
CREATED:20240624T152504Z
LAST-MODIFIED:20240624T152504Z
UID:11338-1725350400-1725382800@brontecollege.ca
SUMMARY:Classes Begin
DESCRIPTION:
URL:https://brontecollege.ca/event/classes-begin-12/
END:VEVENT
BEGIN:VEVENT
DTSTART;TZID=America/Toronto:20240902T080000
DTEND;TZID=America/Toronto:20240902T170000
DTSTAMP:20260423T072123
CREATED:20240624T152428Z
LAST-MODIFIED:20240624T152428Z
UID:11336-1725264000-1725296400@brontecollege.ca
SUMMARY:Labour Day
DESCRIPTION:
URL:https://brontecollege.ca/event/labour-day/
END:VEVENT
BEGIN:VEVENT
DTSTART;VALUE=DATE:20240829
DTEND;VALUE=DATE:20240830
DTSTAMP:20260423T072123
CREATED:20240624T152338Z
LAST-MODIFIED:20240624T152338Z
UID:11334-1724889600-1724975999@brontecollege.ca
SUMMARY:Welcome Back Barbecue and Parent Information Day
DESCRIPTION:
URL:https://brontecollege.ca/event/welcome-back-barbecue-and-parent-information-day-2/
END:VEVENT
BEGIN:VEVENT
DTSTART;VALUE=DATE:20240828
DTEND;VALUE=DATE:20240830
DTSTAMP:20260423T072123
CREATED:20240624T152300Z
LAST-MODIFIED:20240626T181548Z
UID:11332-1724803200-1724975999@brontecollege.ca
SUMMARY:Professional Development Day
DESCRIPTION:
URL:https://brontecollege.ca/event/professional-development-day-6/
END:VEVENT
BEGIN:VEVENT
DTSTART;VALUE=DATE:20240828
DTEND;VALUE=DATE:20240831
DTSTAMP:20260423T072123
CREATED:20240624T152117Z
LAST-MODIFIED:20240624T152117Z
UID:11330-1724803200-1725062399@brontecollege.ca
SUMMARY:New Student Orientation
DESCRIPTION:
URL:https://brontecollege.ca/event/new-student-orientation/
END:VEVENT
BEGIN:VEVENT
DTSTART;TZID=America/Toronto:20240702T080000
DTEND;TZID=America/Toronto:20240702T170000
DTSTAMP:20260423T072123
CREATED:20240626T140946Z
LAST-MODIFIED:20240626T140946Z
UID:11356-1719907200-1719939600@brontecollege.ca
SUMMARY:Classes Begin - Summer Session
DESCRIPTION:
URL:https://brontecollege.ca/event/classes-begin-summer-session/
END:VEVENT
BEGIN:VEVENT
DTSTART;VALUE=DATE:20240628
DTEND;VALUE=DATE:20240629
DTSTAMP:20260423T072123
CREATED:20221005T162454Z
LAST-MODIFIED:20230718T104146Z
UID:7904-1719532800-1719619199@brontecollege.ca
SUMMARY:Final Report Cards Issued
DESCRIPTION:
URL:https://brontecollege.ca/event/final-report-cards-issued-20/
END:VEVENT
BEGIN:VEVENT
DTSTART;VALUE=DATE:20240627
DTEND;VALUE=DATE:20240628
DTSTAMP:20260423T072123
CREATED:20221005T162428Z
LAST-MODIFIED:20230718T104026Z
UID:7902-1719446400-1719532799@brontecollege.ca
SUMMARY:Graduation Ceremony
DESCRIPTION:
URL:https://brontecollege.ca/event/graduation-ceremony-6/
END:VEVENT
BEGIN:VEVENT
DTSTART;TZID=America/Toronto:20240625T080000
DTEND;TZID=America/Toronto:20240628T170000
DTSTAMP:20260423T072123
CREATED:20230718T103922Z
LAST-MODIFIED:20230718T103922Z
UID:9115-1719302400-1719594000@brontecollege.ca
SUMMARY:Professional Development Days
DESCRIPTION:
URL:https://brontecollege.ca/event/professional-development-days-9/
END:VEVENT
BEGIN:VEVENT
DTSTART;TZID=America/Toronto:20240624T080000
DTEND;TZID=America/Toronto:20240624T170000
DTSTAMP:20260423T072123
CREATED:20230718T103823Z
LAST-MODIFIED:20230718T103823Z
UID:9113-1719216000-1719248400@brontecollege.ca
SUMMARY:Final Examinations Exam Take Up / Professional Development Day
DESCRIPTION:
URL:https://brontecollege.ca/event/final-examinations-exam-take-up-professional-development-day/
END:VEVENT
BEGIN:VEVENT
DTSTART;VALUE=DATE:20240617
DTEND;VALUE=DATE:20240622
DTSTAMP:20260423T072123
CREATED:20221005T162155Z
LAST-MODIFIED:20230718T103736Z
UID:7896-1718582400-1719014399@brontecollege.ca
SUMMARY:Final Exams
DESCRIPTION:
URL:https://brontecollege.ca/event/final-exams-18/
END:VEVENT
BEGIN:VEVENT
DTSTART;VALUE=DATE:20240520
DTEND;VALUE=DATE:20240521
DTSTAMP:20260423T072123
CREATED:20221005T161847Z
LAST-MODIFIED:20230718T103642Z
UID:7889-1716163200-1716249599@brontecollege.ca
SUMMARY:Victoria Day Holiday
DESCRIPTION:
URL:https://brontecollege.ca/event/victoria-day-holiday-6/
END:VEVENT
BEGIN:VEVENT
DTSTART;VALUE=DATE:20240510
DTEND;VALUE=DATE:20240511
DTSTAMP:20260423T072123
CREATED:20221005T161554Z
LAST-MODIFIED:20230718T103504Z
UID:7885-1715299200-1715385599@brontecollege.ca
SUMMARY:Full Disclosure
DESCRIPTION:
URL:https://brontecollege.ca/event/full-disclosure-2/
END:VEVENT
END:VCALENDAR