BEGIN:VCALENDAR
VERSION:2.0
PRODID:-//Bronte College - ECPv6.15.12.2//NONSGML v1.0//EN
CALSCALE:GREGORIAN
METHOD:PUBLISH
X-WR-CALNAME:Bronte College
X-ORIGINAL-URL:https://brontecollege.ca
X-WR-CALDESC:Events for Bronte College
REFRESH-INTERVAL;VALUE=DURATION:PT1H
X-Robots-Tag:noindex
X-PUBLISHED-TTL:PT1H
BEGIN:VTIMEZONE
TZID:America/Toronto
BEGIN:DAYLIGHT
TZOFFSETFROM:-0500
TZOFFSETTO:-0400
TZNAME:EDT
DTSTART:20220313T070000
END:DAYLIGHT
BEGIN:STANDARD
TZOFFSETFROM:-0400
TZOFFSETTO:-0500
TZNAME:EST
DTSTART:20221106T060000
END:STANDARD
BEGIN:DAYLIGHT
TZOFFSETFROM:-0500
TZOFFSETTO:-0400
TZNAME:EDT
DTSTART:20230312T070000
END:DAYLIGHT
BEGIN:STANDARD
TZOFFSETFROM:-0400
TZOFFSETTO:-0500
TZNAME:EST
DTSTART:20231105T060000
END:STANDARD
BEGIN:DAYLIGHT
TZOFFSETFROM:-0500
TZOFFSETTO:-0400
TZNAME:EDT
DTSTART:20240310T070000
END:DAYLIGHT
BEGIN:STANDARD
TZOFFSETFROM:-0400
TZOFFSETTO:-0500
TZNAME:EST
DTSTART:20241103T060000
END:STANDARD
BEGIN:DAYLIGHT
TZOFFSETFROM:-0500
TZOFFSETTO:-0400
TZNAME:EDT
DTSTART:20250309T070000
END:DAYLIGHT
BEGIN:STANDARD
TZOFFSETFROM:-0400
TZOFFSETTO:-0500
TZNAME:EST
DTSTART:20251102T060000
END:STANDARD
END:VTIMEZONE
BEGIN:VEVENT
DTSTART;VALUE=DATE:20240130
DTEND;VALUE=DATE:20240201
DTSTAMP:20260423T134131
CREATED:20201202T185852Z
LAST-MODIFIED:20230718T101835Z
UID:5855-1706572800-1706745599@brontecollege.ca
SUMMARY:Registration of New Students/Orientation
DESCRIPTION:
URL:https://brontecollege.ca/event/registration-of-new-students-timetable-pick-up/
END:VEVENT
BEGIN:VEVENT
DTSTART;VALUE=DATE:20240130
DTEND;VALUE=DATE:20240131
DTSTAMP:20260423T134131
CREATED:20211101T165520Z
LAST-MODIFIED:20230718T101646Z
UID:6725-1706572800-1706659199@brontecollege.ca
SUMMARY:Professional Development Day
DESCRIPTION:
URL:https://brontecollege.ca/event/professional-development-day-4/
END:VEVENT
BEGIN:VEVENT
DTSTART;VALUE=DATE:20240129
DTEND;VALUE=DATE:20240130
DTSTAMP:20260423T134131
CREATED:20210625T142739Z
LAST-MODIFIED:20230718T101548Z
UID:6376-1706486400-1706572799@brontecollege.ca
SUMMARY:Exam Take-Up/Professional Development Day
DESCRIPTION:
URL:https://brontecollege.ca/event/exam-take-up-professional-development-day-3/
CATEGORIES:Academic,Guidance
END:VEVENT
BEGIN:VEVENT
DTSTART;VALUE=DATE:20240122
DTEND;VALUE=DATE:20240127
DTSTAMP:20260423T134131
CREATED:20221005T155826Z
LAST-MODIFIED:20230718T100602Z
UID:7845-1705881600-1706313599@brontecollege.ca
SUMMARY:Final Exams
DESCRIPTION:
URL:https://brontecollege.ca/event/final-exams-17/
END:VEVENT
BEGIN:VEVENT
DTSTART;VALUE=DATE:20240108
DTEND;VALUE=DATE:20240109
DTSTAMP:20260423T134131
CREATED:20221005T154353Z
LAST-MODIFIED:20230718T100520Z
UID:7832-1704672000-1704758399@brontecollege.ca
SUMMARY:Classes Resume
DESCRIPTION:
URL:https://brontecollege.ca/event/midterm-report-cards-issued-12/
END:VEVENT
BEGIN:VEVENT
DTSTART;VALUE=DATE:20231222
DTEND;VALUE=DATE:20240106
DTSTAMP:20260423T134131
CREATED:20210625T142354Z
LAST-MODIFIED:20231218T180724Z
UID:6370-1703203200-1704499199@brontecollege.ca
SUMMARY:Holiday Break
DESCRIPTION:
URL:https://brontecollege.ca/event/holiday-break-6/
END:VEVENT
BEGIN:VEVENT
DTSTART;VALUE=DATE:20231124
DTEND;VALUE=DATE:20231125
DTSTAMP:20260423T134131
CREATED:20231124T170534Z
LAST-MODIFIED:20230718T095028Z
UID:7861-1700784000-1700870399@brontecollege.ca
SUMMARY:Full Disclosure
DESCRIPTION:
URL:https://brontecollege.ca/event/full-disclosure/
END:VEVENT
BEGIN:VEVENT
DTSTART;VALUE=DATE:20231115
DTEND;VALUE=DATE:20231117
DTSTAMP:20260423T134131
CREATED:20230718T095152Z
LAST-MODIFIED:20230718T095152Z
UID:9106-1700006400-1700179199@brontecollege.ca
SUMMARY:Parent/Teacher Interviews (Virtual)
DESCRIPTION:
URL:https://brontecollege.ca/event/parent-teacher-interviews-virtual/
END:VEVENT
BEGIN:VEVENT
DTSTART;VALUE=DATE:20231110
DTEND;VALUE=DATE:20231111
DTSTAMP:20260423T134131
CREATED:20221005T160456Z
LAST-MODIFIED:20230718T094551Z
UID:7859-1699574400-1699660799@brontecollege.ca
SUMMARY:Midterm Report Cards issued
DESCRIPTION:
URL:https://brontecollege.ca/event/midterm-report-cards-issued-13/
END:VEVENT
BEGIN:VEVENT
DTSTART;TZID=America/Toronto:20231027T080000
DTEND;TZID=America/Toronto:20231027T170000
DTSTAMP:20260423T134131
CREATED:20221005T162352Z
LAST-MODIFIED:20230718T094504Z
UID:7900-1698393600-1698426000@brontecollege.ca
SUMMARY:Professional Development Days
DESCRIPTION:
URL:https://brontecollege.ca/event/professional-development-days-8/
END:VEVENT
BEGIN:VEVENT
DTSTART;VALUE=DATE:20231017
DTEND;VALUE=DATE:20231019
DTSTAMP:20260423T134131
CREATED:20221005T153023Z
LAST-MODIFIED:20230718T094409Z
UID:7830-1697500800-1697673599@brontecollege.ca
SUMMARY:Bronte College University Fair
DESCRIPTION:
URL:https://brontecollege.ca/event/bronte-college-university-fair-5/
END:VEVENT
BEGIN:VEVENT
DTSTART;VALUE=DATE:20231013
DTEND;VALUE=DATE:20231014
DTSTAMP:20260423T134131
CREATED:20221005T152730Z
LAST-MODIFIED:20230718T094054Z
UID:7825-1697155200-1697241599@brontecollege.ca
SUMMARY:Interim Report Cards
DESCRIPTION:
URL:https://brontecollege.ca/event/interim-report-cards-2/
END:VEVENT
BEGIN:VEVENT
DTSTART;VALUE=DATE:20231009
DTEND;VALUE=DATE:20231010
DTSTAMP:20260423T134131
CREATED:20221005T152925Z
LAST-MODIFIED:20230718T091614Z
UID:7828-1696809600-1696895999@brontecollege.ca
SUMMARY:Thanksgiving Day Holiday
DESCRIPTION:
URL:https://brontecollege.ca/event/thanksgiving-day-holiday-6/
END:VEVENT
BEGIN:VEVENT
DTSTART;VALUE=DATE:20230915
DTEND;VALUE=DATE:20230916
DTSTAMP:20260423T134131
CREATED:20210625T141746Z
LAST-MODIFIED:20230718T091525Z
UID:6358-1694736000-1694822399@brontecollege.ca
SUMMARY:Course Change Deadline
DESCRIPTION:
URL:https://brontecollege.ca/event/course-change-deadline-11/
CATEGORIES:Academic,Guidance
END:VEVENT
BEGIN:VEVENT
DTSTART;VALUE=DATE:20230905
DTEND;VALUE=DATE:20230906
DTSTAMP:20260423T134131
CREATED:20210625T141622Z
LAST-MODIFIED:20230718T091416Z
UID:6356-1693872000-1693958399@brontecollege.ca
SUMMARY:Classes Begin
DESCRIPTION:
URL:https://brontecollege.ca/event/classes-begin-10/
CATEGORIES:Academic,Guidance
END:VEVENT
BEGIN:VEVENT
DTSTART;VALUE=DATE:20230904
DTEND;VALUE=DATE:20230905
DTSTAMP:20260423T134131
CREATED:20210625T141532Z
LAST-MODIFIED:20230718T091116Z
UID:6354-1693785600-1693871999@brontecollege.ca
SUMMARY:Labour Day Holiday
DESCRIPTION:
URL:https://brontecollege.ca/event/labour-day-holiday-6/
END:VEVENT
BEGIN:VEVENT
DTSTART;VALUE=DATE:20230831
DTEND;VALUE=DATE:20230902
DTSTAMP:20260423T134131
CREATED:20230718T085532Z
LAST-MODIFIED:20230718T090832Z
UID:9102-1693440000-1693612799@brontecollege.ca
SUMMARY:Professional Development Day
DESCRIPTION:
URL:https://brontecollege.ca/event/professional-development-day-5/
END:VEVENT
BEGIN:VEVENT
DTSTART;VALUE=DATE:20230831
DTEND;VALUE=DATE:20230902
DTSTAMP:20260423T134131
CREATED:20230718T085354Z
LAST-MODIFIED:20230718T090948Z
UID:9100-1693440000-1693612799@brontecollege.ca
SUMMARY:English/Math Proficiency Testing For New Students/Timetable
DESCRIPTION:
URL:https://brontecollege.ca/event/english-math-proficiency-testing-for-new-students-timetable/
END:VEVENT
BEGIN:VEVENT
DTSTART;VALUE=DATE:20230831
DTEND;VALUE=DATE:20230902
DTSTAMP:20260423T134131
CREATED:20221005T163828Z
LAST-MODIFIED:20230718T090911Z
UID:7930-1693440000-1693612799@brontecollege.ca
SUMMARY:Final Report Cards issued
DESCRIPTION:
URL:https://brontecollege.ca/event/final-report-cards-issued-22/
END:VEVENT
BEGIN:VEVENT
DTSTART;VALUE=DATE:20230831
DTEND;VALUE=DATE:20230901
DTSTAMP:20260423T134131
CREATED:20230718T085620Z
LAST-MODIFIED:20230718T090640Z
UID:9104-1693440000-1693526399@brontecollege.ca
SUMMARY:Welcome Back Barbecue and Parent Information Day
DESCRIPTION:
URL:https://brontecollege.ca/event/welcome-back-barbecue-and-parent-information-day/
END:VEVENT
BEGIN:VEVENT
DTSTART;VALUE=DATE:20230828
DTEND;VALUE=DATE:20230829
DTSTAMP:20260423T134131
CREATED:20221005T163753Z
LAST-MODIFIED:20221005T163753Z
UID:7928-1693180800-1693267199@brontecollege.ca
SUMMARY:Exam Take-up
DESCRIPTION:
URL:https://brontecollege.ca/event/exam-take-up-9/
END:VEVENT
BEGIN:VEVENT
DTSTART;VALUE=DATE:20230825
DTEND;VALUE=DATE:20230826
DTSTAMP:20260423T134131
CREATED:20221005T163728Z
LAST-MODIFIED:20221005T163728Z
UID:7926-1692921600-1693007999@brontecollege.ca
SUMMARY:Final Exams
DESCRIPTION:
URL:https://brontecollege.ca/event/final-exams-19/
END:VEVENT
BEGIN:VEVENT
DTSTART;VALUE=DATE:20230818
DTEND;VALUE=DATE:20230819
DTSTAMP:20260423T134131
CREATED:20221005T163331Z
LAST-MODIFIED:20221005T163331Z
UID:7916-1692316800-1692403199@brontecollege.ca
SUMMARY:Final Report Cards issued
DESCRIPTION:
URL:https://brontecollege.ca/event/final-report-cards-issued-21/
END:VEVENT
BEGIN:VEVENT
DTSTART;VALUE=DATE:20230816
DTEND;VALUE=DATE:20230817
DTSTAMP:20260423T134131
CREATED:20221005T163300Z
LAST-MODIFIED:20221005T163300Z
UID:7914-1692144000-1692230399@brontecollege.ca
SUMMARY:Exam Take-up
DESCRIPTION:
URL:https://brontecollege.ca/event/exam-take-up-7/
END:VEVENT
BEGIN:VEVENT
DTSTART;VALUE=DATE:20230814
DTEND;VALUE=DATE:20230815
DTSTAMP:20260423T134131
CREATED:20221005T163229Z
LAST-MODIFIED:20221005T163229Z
UID:7912-1691971200-1692057599@brontecollege.ca
SUMMARY:Final Exams - Summer School Session One
DESCRIPTION:
URL:https://brontecollege.ca/event/final-exams-summer-school-session-one/
END:VEVENT
BEGIN:VEVENT
DTSTART;VALUE=DATE:20230717
DTEND;VALUE=DATE:20230830
DTSTAMP:20260423T134131
CREATED:20221005T163458Z
LAST-MODIFIED:20221005T163458Z
UID:7918-1689552000-1693353599@brontecollege.ca
SUMMARY:SUMMER SCHOOL – SESSION TWO
DESCRIPTION:
URL:https://brontecollege.ca/event/summer-school-session-two/
END:VEVENT
BEGIN:VEVENT
DTSTART;VALUE=DATE:20230717
DTEND;VALUE=DATE:20230718
DTSTAMP:20260423T134131
CREATED:20221005T163647Z
LAST-MODIFIED:20221005T163647Z
UID:7924-1689552000-1689638399@brontecollege.ca
SUMMARY:Classes Begin
DESCRIPTION:
URL:https://brontecollege.ca/event/classes-begin-11/
END:VEVENT
BEGIN:VEVENT
DTSTART;VALUE=DATE:20230717
DTEND;VALUE=DATE:20230718
DTSTAMP:20260423T134131
CREATED:20221005T163540Z
LAST-MODIFIED:20221005T163540Z
UID:7920-1689552000-1689638399@brontecollege.ca
SUMMARY:Registration of New Students/Timetable Pick-Up (Online)
DESCRIPTION:
URL:https://brontecollege.ca/event/registration-of-new-students-timetable-pick-up-online/
END:VEVENT
BEGIN:VEVENT
DTSTART;VALUE=DATE:20230714
DTEND;VALUE=DATE:20230715
DTSTAMP:20260423T134131
CREATED:20221005T163610Z
LAST-MODIFIED:20221005T163610Z
UID:7922-1689292800-1689379199@brontecollege.ca
SUMMARY:Orientation & EPT/MPT for New Students
DESCRIPTION:
URL:https://brontecollege.ca/event/orientation-ept-mpt-for-new-students-3/
END:VEVENT
BEGIN:VEVENT
DTSTART;VALUE=DATE:20230704
DTEND;VALUE=DATE:20230816
DTSTAMP:20260423T134131
CREATED:20221005T162625Z
LAST-MODIFIED:20221005T162625Z
UID:7906-1688428800-1692143999@brontecollege.ca
SUMMARY:Summer School -Session One
DESCRIPTION:
URL:https://brontecollege.ca/event/summer-school-session-one-2/
END:VEVENT
END:VCALENDAR