BEGIN:VCALENDAR
VERSION:2.0
PRODID:-//Bronte College - ECPv6.15.12.2//NONSGML v1.0//EN
CALSCALE:GREGORIAN
METHOD:PUBLISH
X-WR-CALNAME:Bronte College
X-ORIGINAL-URL:https://brontecollege.ca
X-WR-CALDESC:Events for Bronte College
REFRESH-INTERVAL;VALUE=DURATION:PT1H
X-Robots-Tag:noindex
X-PUBLISHED-TTL:PT1H
BEGIN:VTIMEZONE
TZID:America/Toronto
BEGIN:DAYLIGHT
TZOFFSETFROM:-0500
TZOFFSETTO:-0400
TZNAME:EDT
DTSTART:20210314T070000
END:DAYLIGHT
BEGIN:STANDARD
TZOFFSETFROM:-0400
TZOFFSETTO:-0500
TZNAME:EST
DTSTART:20211107T060000
END:STANDARD
BEGIN:DAYLIGHT
TZOFFSETFROM:-0500
TZOFFSETTO:-0400
TZNAME:EDT
DTSTART:20220313T070000
END:DAYLIGHT
BEGIN:STANDARD
TZOFFSETFROM:-0400
TZOFFSETTO:-0500
TZNAME:EST
DTSTART:20221106T060000
END:STANDARD
BEGIN:DAYLIGHT
TZOFFSETFROM:-0500
TZOFFSETTO:-0400
TZNAME:EDT
DTSTART:20230312T070000
END:DAYLIGHT
BEGIN:STANDARD
TZOFFSETFROM:-0400
TZOFFSETTO:-0500
TZNAME:EST
DTSTART:20231105T060000
END:STANDARD
BEGIN:DAYLIGHT
TZOFFSETFROM:-0500
TZOFFSETTO:-0400
TZNAME:EDT
DTSTART:20240310T070000
END:DAYLIGHT
BEGIN:STANDARD
TZOFFSETFROM:-0400
TZOFFSETTO:-0500
TZNAME:EST
DTSTART:20241103T060000
END:STANDARD
END:VTIMEZONE
BEGIN:VEVENT
DTSTART;VALUE=DATE:20230704
DTEND;VALUE=DATE:20230705
DTSTAMP:20260423T174039
CREATED:20221005T162956Z
LAST-MODIFIED:20221005T162956Z
UID:7910-1688428800-1688515199@brontecollege.ca
SUMMARY:Registration of New Students/Timetable Pick-Up (Online)/ Classes Begin
DESCRIPTION:
URL:https://brontecollege.ca/event/registration-of-new-students-timetable-pick-up-online-classes-begin/
END:VEVENT
BEGIN:VEVENT
DTSTART;VALUE=DATE:20230701
DTEND;VALUE=DATE:20230702
DTSTAMP:20260423T174039
CREATED:20221005T162730Z
LAST-MODIFIED:20221005T162730Z
UID:7908-1688169600-1688255999@brontecollege.ca
SUMMARY:Canada Day Holiday
DESCRIPTION:
URL:https://brontecollege.ca/event/canada-day-holiday-8/
END:VEVENT
BEGIN:VEVENT
DTSTART;VALUE=DATE:20230626
DTEND;VALUE=DATE:20230627
DTSTAMP:20260423T174039
CREATED:20221005T162235Z
LAST-MODIFIED:20221005T162235Z
UID:7898-1687737600-1687823999@brontecollege.ca
SUMMARY:Exam Take-Up/Professional Development
DESCRIPTION:
URL:https://brontecollege.ca/event/exam-take-up-professional-development-3/
END:VEVENT
BEGIN:VEVENT
DTSTART;VALUE=DATE:20230601
DTEND;VALUE=DATE:20230602
DTSTAMP:20260423T174039
CREATED:20221005T162015Z
LAST-MODIFIED:20221005T162015Z
UID:7893-1685577600-1685663999@brontecollege.ca
SUMMARY:OUAC – Student Response Date
DESCRIPTION:
URL:https://brontecollege.ca/event/ouac-student-response-date-3/
END:VEVENT
BEGIN:VEVENT
DTSTART;VALUE=DATE:20230531
DTEND;VALUE=DATE:20230601
DTSTAMP:20260423T174039
CREATED:20221005T161934Z
LAST-MODIFIED:20221005T161934Z
UID:7891-1685491200-1685577599@brontecollege.ca
SUMMARY:OUAC – Applicants should receive a reply from Universities
DESCRIPTION:
URL:https://brontecollege.ca/event/ouac-applicants-should-receive-a-reply-from-universities/
END:VEVENT
BEGIN:VEVENT
DTSTART;VALUE=DATE:20230502
DTEND;VALUE=DATE:20230522
DTSTAMP:20260423T174039
CREATED:20221005T161742Z
LAST-MODIFIED:20221005T161742Z
UID:7887-1682985600-1684713599@brontecollege.ca
SUMMARY:Advanced Placement (AP) Exams
DESCRIPTION:
URL:https://brontecollege.ca/event/advanced-placement-ap-exams-2/
END:VEVENT
BEGIN:VEVENT
DTSTART;VALUE=DATE:20230417
DTEND;VALUE=DATE:20230418
DTSTAMP:20260423T174039
CREATED:20221005T161525Z
LAST-MODIFIED:20221019T144125Z
UID:7883-1681689600-1681775999@brontecollege.ca
SUMMARY:Midterm Report Cards issued
DESCRIPTION:
URL:https://brontecollege.ca/event/midterm-report-cards-issued-14/
END:VEVENT
BEGIN:VEVENT
DTSTART;VALUE=DATE:20230207
DTEND;VALUE=DATE:20230208
DTSTAMP:20260423T174039
CREATED:20221005T172129Z
LAST-MODIFIED:20221005T172129Z
UID:7934-1675728000-1675814399@brontecollege.ca
SUMMARY:Last day to arrive for February 2023 Intake
DESCRIPTION:
URL:https://brontecollege.ca/event/last-day-to-arrive-for-february-2023-intake/
END:VEVENT
BEGIN:VEVENT
DTSTART;VALUE=DATE:20230201
DTEND;VALUE=DATE:20230202
DTSTAMP:20260423T174039
CREATED:20221005T160928Z
LAST-MODIFIED:20221005T160928Z
UID:7868-1675209600-1675295999@brontecollege.ca
SUMMARY:Classes Begin - Second Semester
DESCRIPTION:
URL:https://brontecollege.ca/event/classes-begin-second-semester/
END:VEVENT
BEGIN:VEVENT
DTSTART;VALUE=DATE:20230131
DTEND;VALUE=DATE:20230201
DTSTAMP:20260423T174039
CREATED:20221005T172009Z
LAST-MODIFIED:20221005T172009Z
UID:7932-1675123200-1675209599@brontecollege.ca
SUMMARY:Orientation for February 2023 Intake
DESCRIPTION:
URL:https://brontecollege.ca/event/orientation-for-february-2023-intake/
END:VEVENT
BEGIN:VEVENT
DTSTART;VALUE=DATE:20230131
DTEND;VALUE=DATE:20230201
DTSTAMP:20260423T174039
CREATED:20221005T160212Z
LAST-MODIFIED:20221005T160212Z
UID:7853-1675123200-1675209599@brontecollege.ca
SUMMARY:Timetable Pick-Up (Online)
DESCRIPTION:
URL:https://brontecollege.ca/event/timetable-pick-up-online/
END:VEVENT
BEGIN:VEVENT
DTSTART;VALUE=DATE:20230130
DTEND;VALUE=DATE:20230201
DTSTAMP:20260423T174039
CREATED:20221005T160800Z
LAST-MODIFIED:20221005T160800Z
UID:7866-1675036800-1675209599@brontecollege.ca
SUMMARY:EPT/MPT for New Students/ Registration of New Students
DESCRIPTION:
URL:https://brontecollege.ca/event/ept-mpt-for-new-students-registration-of-new-students-2/
END:VEVENT
BEGIN:VEVENT
DTSTART;VALUE=DATE:20230130
DTEND;VALUE=DATE:20230201
DTSTAMP:20260423T174039
CREATED:20221005T160127Z
LAST-MODIFIED:20221019T144932Z
UID:7851-1675036800-1675209599@brontecollege.ca
SUMMARY:Professional Development Days
DESCRIPTION:
URL:https://brontecollege.ca/event/professional-development-days-7/
END:VEVENT
BEGIN:VEVENT
DTSTART;VALUE=DATE:20230130
DTEND;VALUE=DATE:20230131
DTSTAMP:20260423T174039
CREATED:20221005T155943Z
LAST-MODIFIED:20221019T145141Z
UID:7848-1675036800-1675123199@brontecollege.ca
SUMMARY:Exam Take-Up
DESCRIPTION:
URL:https://brontecollege.ca/event/exam-take-up-professional-development-day-4/
END:VEVENT
BEGIN:VEVENT
DTSTART;VALUE=DATE:20230113
DTEND;VALUE=DATE:20230114
DTSTAMP:20260423T174039
CREATED:20221005T155645Z
LAST-MODIFIED:20221005T155645Z
UID:7840-1673568000-1673654399@brontecollege.ca
SUMMARY:OUAC Deadline for applications
DESCRIPTION:
URL:https://brontecollege.ca/event/ouac-deadline-for-applications/
END:VEVENT
BEGIN:VEVENT
DTSTART;VALUE=DATE:20221223
DTEND;VALUE=DATE:20230107
DTSTAMP:20260423T174039
CREATED:20221005T160625Z
LAST-MODIFIED:20221005T160625Z
UID:7863-1671753600-1673049599@brontecollege.ca
SUMMARY:Holiday Break
DESCRIPTION:
URL:https://brontecollege.ca/event/holiday-break-7/
END:VEVENT
BEGIN:VEVENT
DTSTART;VALUE=DATE:20221216
DTEND;VALUE=DATE:20221217
DTSTAMP:20260423T174039
CREATED:20221005T155737Z
LAST-MODIFIED:20221005T155737Z
UID:7843-1671148800-1671235199@brontecollege.ca
SUMMARY:OUAC Deadline for Bronte College
DESCRIPTION:
URL:https://brontecollege.ca/event/ouac-deadline-for-bronte-college/
END:VEVENT
BEGIN:VEVENT
DTSTART;VALUE=DATE:20220829
DTEND;VALUE=DATE:20220830
DTSTAMP:20260423T174039
CREATED:20210625T165318Z
LAST-MODIFIED:20210625T165318Z
UID:6450-1661731200-1661817599@brontecollege.ca
SUMMARY:Summer School Session Two - Final Report Cards issued
DESCRIPTION:
URL:https://brontecollege.ca/event/summer-school-session-two-final-report-cards-issued/
CATEGORIES:Academic,Guidance
END:VEVENT
BEGIN:VEVENT
DTSTART;VALUE=DATE:20220826
DTEND;VALUE=DATE:20220827
DTSTAMP:20260423T174039
CREATED:20210625T165242Z
LAST-MODIFIED:20210625T165242Z
UID:6448-1661472000-1661558399@brontecollege.ca
SUMMARY:Summer School Session Two - Exam Take-up
DESCRIPTION:
URL:https://brontecollege.ca/event/summer-school-session-two-exam-take-up/
CATEGORIES:Academic,Guidance
END:VEVENT
BEGIN:VEVENT
DTSTART;VALUE=DATE:20220826
DTEND;VALUE=DATE:20220827
DTSTAMP:20260423T174039
CREATED:20210625T164813Z
LAST-MODIFIED:20210625T164813Z
UID:6438-1661472000-1661558399@brontecollege.ca
SUMMARY:Summer School Session Two Ends
DESCRIPTION:
URL:https://brontecollege.ca/event/summer-school-session-two-ends/
CATEGORIES:Academic,Guidance
END:VEVENT
BEGIN:VEVENT
DTSTART;VALUE=DATE:20220825
DTEND;VALUE=DATE:20220826
DTSTAMP:20260423T174039
CREATED:20210625T165136Z
LAST-MODIFIED:20210625T165136Z
UID:6446-1661385600-1661471999@brontecollege.ca
SUMMARY:Summer School Session Two - Final Exams
DESCRIPTION:
URL:https://brontecollege.ca/event/summer-school-session-two-final-exams/
CATEGORIES:Academic,Guidance
END:VEVENT
BEGIN:VEVENT
DTSTART;VALUE=DATE:20220818
DTEND;VALUE=DATE:20220819
DTSTAMP:20260423T174039
CREATED:20210625T164622Z
LAST-MODIFIED:20210625T164622Z
UID:6434-1660780800-1660867199@brontecollege.ca
SUMMARY:Summer School Session One - Final Report Cards issued
DESCRIPTION:
URL:https://brontecollege.ca/event/summer-school-session-one-final-report-cards-issued/
CATEGORIES:Academic,Guidance
END:VEVENT
BEGIN:VEVENT
DTSTART;VALUE=DATE:20220816
DTEND;VALUE=DATE:20220817
DTSTAMP:20260423T174039
CREATED:20210625T164541Z
LAST-MODIFIED:20210625T164541Z
UID:6432-1660608000-1660694399@brontecollege.ca
SUMMARY:Summer School Session One - Exam Take-up
DESCRIPTION:
URL:https://brontecollege.ca/event/summer-school-session-one-exam-take-up/
CATEGORIES:Academic,Guidance
END:VEVENT
BEGIN:VEVENT
DTSTART;VALUE=DATE:20220816
DTEND;VALUE=DATE:20220817
DTSTAMP:20260423T174039
CREATED:20210625T163818Z
LAST-MODIFIED:20210625T163818Z
UID:6424-1660608000-1660694399@brontecollege.ca
SUMMARY:Summer School Session One Ends
DESCRIPTION:
URL:https://brontecollege.ca/event/summer-school-session-one-ends/
CATEGORIES:Academic,Guidance
END:VEVENT
BEGIN:VEVENT
DTSTART;VALUE=DATE:20220815
DTEND;VALUE=DATE:20220816
DTSTAMP:20260423T174039
CREATED:20210625T164425Z
LAST-MODIFIED:20210625T164425Z
UID:6430-1660521600-1660607999@brontecollege.ca
SUMMARY:Summer School Session One - Final Exams
DESCRIPTION:
URL:https://brontecollege.ca/event/summer-school-session-one-final-exams/
CATEGORIES:Academic,Guidance
END:VEVENT
BEGIN:VEVENT
DTSTART;VALUE=DATE:20220714
DTEND;VALUE=DATE:20220715
DTSTAMP:20260423T174039
CREATED:20210625T165045Z
LAST-MODIFIED:20210625T165045Z
UID:6444-1657756800-1657843199@brontecollege.ca
SUMMARY:Summer School Session Two - Classes Begin
DESCRIPTION:
URL:https://brontecollege.ca/event/summer-school-session-two-classes-begin/
CATEGORIES:Academic,Guidance
END:VEVENT
BEGIN:VEVENT
DTSTART;VALUE=DATE:20220714
DTEND;VALUE=DATE:20220715
DTSTAMP:20260423T174039
CREATED:20210625T164723Z
LAST-MODIFIED:20210625T164723Z
UID:6436-1657756800-1657843199@brontecollege.ca
SUMMARY:Summer School Session Two Begins
DESCRIPTION:
URL:https://brontecollege.ca/event/summer-school-session-two-begins-2/
CATEGORIES:Academic,Guidance
END:VEVENT
BEGIN:VEVENT
DTSTART;VALUE=DATE:20220713
DTEND;VALUE=DATE:20220714
DTSTAMP:20260423T174039
CREATED:20210625T165000Z
LAST-MODIFIED:20210714T154002Z
UID:6442-1657670400-1657756799@brontecollege.ca
SUMMARY:Orientation for New Students
DESCRIPTION:
URL:https://brontecollege.ca/event/orientation-ept-mpt-for-new-students-2/
CATEGORIES:Academic,Guidance
END:VEVENT
BEGIN:VEVENT
DTSTART;VALUE=DATE:20220713
DTEND;VALUE=DATE:20220714
DTSTAMP:20260423T174039
CREATED:20210625T164915Z
LAST-MODIFIED:20210625T164915Z
UID:6440-1657670400-1657756799@brontecollege.ca
SUMMARY:Registration of New Students/ Timetable Pick-Up
DESCRIPTION:
URL:https://brontecollege.ca/event/registration-of-new-students-timetable-pick-up-3/
CATEGORIES:Academic,Guidance
END:VEVENT
BEGIN:VEVENT
DTSTART;VALUE=DATE:20220704
DTEND;VALUE=DATE:20220705
DTSTAMP:20260423T174039
CREATED:20210625T164350Z
LAST-MODIFIED:20210625T164350Z
UID:6428-1656892800-1656979199@brontecollege.ca
SUMMARY:Summer School Session One - Classes Begin
DESCRIPTION:
URL:https://brontecollege.ca/event/summer-school-session-one-classes-begin/
CATEGORIES:Academic,Guidance
END:VEVENT
END:VCALENDAR